BEGIN:VCALENDAR
VERSION:2.0
PRODID:-//DU Velike Lašče - ECPv6.2.9//NONSGML v1.0//EN
CALSCALE:GREGORIAN
METHOD:PUBLISH
X-WR-CALNAME:DU Velike Lašče
X-ORIGINAL-URL:https://du.velike-lasce.si/splet
X-WR-CALDESC:Events for DU Velike Lašče
REFRESH-INTERVAL;VALUE=DURATION:PT1H
X-Robots-Tag:noindex
X-PUBLISHED-TTL:PT1H
BEGIN:VTIMEZONE
TZID:Europe/Ljubljana
BEGIN:DAYLIGHT
TZOFFSETFROM:+0100
TZOFFSETTO:+0200
TZNAME:CEST
DTSTART:20240331T010000
END:DAYLIGHT
BEGIN:STANDARD
TZOFFSETFROM:+0200
TZOFFSETTO:+0100
TZNAME:CET
DTSTART:20241027T010000
END:STANDARD
END:VTIMEZONE
BEGIN:VEVENT
DTSTART;TZID=Europe/Ljubljana:20241009T100000
DTEND;TZID=Europe/Ljubljana:20241009T110000
DTSTAMP:20260419T153159
CREATED:20241001T204018Z
LAST-MODIFIED:20241001T204018Z
UID:671-1728468000-1728471600@du.velike-lasce.si
SUMMARY:GLASNO BRANJE - (novo)
DESCRIPTION:
URL:https://du.velike-lasce.si/splet/dogodek/glasno-branje-novo/
LOCATION:SOBA DRUŠTVA
END:VEVENT
BEGIN:VEVENT
DTSTART;TZID=Europe/Ljubljana:20241007T090000
DTEND;TZID=Europe/Ljubljana:20241007T110000
DTSTAMP:20260419T153159
CREATED:20241001T202555Z
LAST-MODIFIED:20241001T202648Z
UID:655-1728291600-1728298800@du.velike-lasce.si
SUMMARY:TELOVADBA S FIZIOTERAPEVTK
DESCRIPTION:
URL:https://du.velike-lasce.si/splet/dogodek/telovadba-s-fizioterapevtk/
END:VEVENT
BEGIN:VEVENT
DTSTART;TZID=Europe/Ljubljana:20241004T140000
DTEND;TZID=Europe/Ljubljana:20241004T170000
DTSTAMP:20260419T153159
CREATED:20241001T203647Z
LAST-MODIFIED:20241001T203647Z
UID:667-1728050400-1728061200@du.velike-lasce.si
SUMMARY:ROČNA DELA - NITKE
DESCRIPTION:
URL:https://du.velike-lasce.si/splet/dogodek/rocna-dela-nitke-3/
END:VEVENT
BEGIN:VEVENT
DTSTART;TZID=Europe/Ljubljana:20241002T150000
DTEND;TZID=Europe/Ljubljana:20241002T170000
DTSTAMP:20260419T153159
CREATED:20241001T203122Z
LAST-MODIFIED:20241001T203122Z
UID:663-1727881200-1727888400@du.velike-lasce.si
SUMMARY:DELANICA ZA SPOMIN
DESCRIPTION:
URL:https://du.velike-lasce.si/splet/dogodek/delanica-za-spomin/
END:VEVENT
BEGIN:VEVENT
DTSTART;TZID=Europe/Ljubljana:20240921T160000
DTEND;TZID=Europe/Ljubljana:20240921T180000
DTSTAMP:20260419T153159
CREATED:20240903T192448Z
LAST-MODIFIED:20240903T192448Z
UID:635-1726934400-1726941600@du.velike-lasce.si
SUMMARY:SPREHOD ZA SPOMIN
DESCRIPTION:
URL:https://du.velike-lasce.si/splet/dogodek/sprehod-za-spomin/
END:VEVENT
BEGIN:VEVENT
DTSTART;TZID=Europe/Ljubljana:20240920T140000
DTEND;TZID=Europe/Ljubljana:20240920T170000
DTSTAMP:20260419T153159
CREATED:20240903T192621Z
LAST-MODIFIED:20240903T192621Z
UID:640-1726840800-1726851600@du.velike-lasce.si
SUMMARY:ROČNA DELA
DESCRIPTION:
URL:https://du.velike-lasce.si/splet/dogodek/rocna-dela-11/
END:VEVENT
BEGIN:VEVENT
DTSTART;TZID=Europe/Ljubljana:20240920T033000
DTEND;TZID=Europe/Ljubljana:20240923T233000
DTSTAMP:20260419T153159
CREATED:20240829T194527Z
LAST-MODIFIED:20240917T172155Z
UID:625-1726803000-1727134200@du.velike-lasce.si
SUMMARY:IZLET SARAJEVO
DESCRIPTION:Odhod avtobusa iz parkirišča Velike Lašče. \n(pri pokopališču)
URL:https://du.velike-lasce.si/splet/dogodek/izlet-sarajevo/
END:VEVENT
BEGIN:VEVENT
DTSTART;TZID=Europe/Ljubljana:20240918T150000
DTEND;TZID=Europe/Ljubljana:20240918T170000
DTSTAMP:20260419T153159
CREATED:20240903T192339Z
LAST-MODIFIED:20240903T192339Z
UID:631-1726671600-1726678800@du.velike-lasce.si
SUMMARY:DELAVNICA ZA SPOMIN
DESCRIPTION:
URL:https://du.velike-lasce.si/splet/dogodek/delavnica-za-spomin-12/
END:VEVENT
BEGIN:VEVENT
DTSTART;TZID=Europe/Ljubljana:20240906T140000
DTEND;TZID=Europe/Ljubljana:20240906T170000
DTSTAMP:20260419T153159
CREATED:20240903T192541Z
LAST-MODIFIED:20240903T192541Z
UID:637-1725631200-1725642000@du.velike-lasce.si
SUMMARY:ROČNA DELA
DESCRIPTION:
URL:https://du.velike-lasce.si/splet/dogodek/rocna-dela-10/
END:VEVENT
BEGIN:VEVENT
DTSTART;TZID=Europe/Ljubljana:20240904T150000
DTEND;TZID=Europe/Ljubljana:20240904T170000
DTSTAMP:20260419T153159
CREATED:20240903T192249Z
LAST-MODIFIED:20240903T192249Z
UID:629-1725462000-1725469200@du.velike-lasce.si
SUMMARY:DELAVNICA ZA SPOMIN
DESCRIPTION:
URL:https://du.velike-lasce.si/splet/dogodek/delavnica-za-spomin-11/
END:VEVENT
BEGIN:VEVENT
DTSTART;TZID=Europe/Ljubljana:20240904T090000
DTEND;TZID=Europe/Ljubljana:20240904T103000
DTSTAMP:20260419T153159
CREATED:20240903T192800Z
LAST-MODIFIED:20240903T192800Z
UID:642-1725440400-1725445800@du.velike-lasce.si
SUMMARY:MESEČNI SESTANEK
DESCRIPTION:
URL:https://du.velike-lasce.si/splet/dogodek/mesecni-sestanek/
END:VEVENT
BEGIN:VEVENT
DTSTART;TZID=Europe/Ljubljana:20240618T080000
DTEND;TZID=Europe/Ljubljana:20240618T170000
DTSTAMP:20260419T153159
CREATED:20240618T203053Z
LAST-MODIFIED:20240618T211931Z
UID:592-1718697600-1718730000@du.velike-lasce.si
SUMMARY:Z NIKOM V ŠKOFJO LOKO
DESCRIPTION:
URL:https://du.velike-lasce.si/splet/dogodek/z-nikom-v-kranj-2/
END:VEVENT
BEGIN:VEVENT
DTSTART;VALUE=DATE:20240613
DTEND;VALUE=DATE:20240614
DTSTAMP:20260419T153159
CREATED:20240527T173328Z
LAST-MODIFIED:20240527T173328Z
UID:589-1718236800-1718323199@du.velike-lasce.si
SUMMARY:KRAJŠI IZLET PO DOLENJSKI IN NOTRANJSKI
DESCRIPTION:PROGRAM: ODHOD IZ PARKIRIŠČA OB 10.30 URI\, \n\nogled botaničnega vrta družine KNAS na HRIBU  v Loškem Potoku\,\nobisk  Cirkniškega jezera z vodenjem\,\npozno “BLOŠKO KOSILO” ob bloškem jezeru\,\npovratek okoli 18. ure\,\nCena je 32\,- € (prevoz\, vstopnine\, vodenje in prehrana\, (plačilo na avtobusu)
URL:https://du.velike-lasce.si/splet/dogodek/krajsi-izlet-po-dolenjski-in-notranjski/
END:VEVENT
BEGIN:VEVENT
DTSTART;VALUE=DATE:20240611
DTEND;VALUE=DATE:20240612
DTSTAMP:20260419T153159
CREATED:20240527T172601Z
LAST-MODIFIED:20240527T172601Z
UID:587-1718064000-1718150399@du.velike-lasce.si
SUMMARY:Z NIKOM V KRANJ
DESCRIPTION:REDNI PREVOZ – AVTOBUS IN VLAK
URL:https://du.velike-lasce.si/splet/dogodek/z-nikom-v-kranj/
END:VEVENT
BEGIN:VEVENT
DTSTART;VALUE=DATE:20240608
DTEND;VALUE=DATE:20240609
DTSTAMP:20260419T153159
CREATED:20240527T172431Z
LAST-MODIFIED:20240527T172431Z
UID:585-1717804800-1717891199@du.velike-lasce.si
SUMMARY:RAZSTAVA ROČNIH DEL OB OBČINSKEM PRAZNIKU
DESCRIPTION:DRUŠTVENA SOBA V GLASBENI ŠOLI.
URL:https://du.velike-lasce.si/splet/dogodek/razstava-rocnih-del-ob-obcinskem-prazniku/
END:VEVENT
BEGIN:VEVENT
DTSTART;VALUE=DATE:20240530
DTEND;VALUE=DATE:20240531
DTSTAMP:20260419T153159
CREATED:20240416T193632Z
LAST-MODIFIED:20240501T200251Z
UID:550-1717027200-1717113599@du.velike-lasce.si
SUMMARY:IZLET AVSTRIJSKO KOROŠKA
DESCRIPTION:Prijave zbira Stanka Ivanc 041 244 575. Prijavite se lahko pri svojih poverjenikih\, ali v društveni sobi v sredo 15. maja od 9.00 – 10.00 ure.
URL:https://du.velike-lasce.si/splet/dogodek/izlet-avszrijsko-koroska/
END:VEVENT
BEGIN:VEVENT
DTSTART;TZID=Europe/Ljubljana:20240527T090000
DTEND;TZID=Europe/Ljubljana:20240527T130000
DTSTAMP:20260419T153159
CREATED:20240501T201002Z
LAST-MODIFIED:20240501T201002Z
UID:581-1716800400-1716814800@du.velike-lasce.si
SUMMARY:TELOVADBA S FIZIOTERAPEVTKO
DESCRIPTION:
URL:https://du.velike-lasce.si/splet/dogodek/telovadba-s-fizioterapevtko-18/
END:VEVENT
BEGIN:VEVENT
DTSTART;TZID=Europe/Ljubljana:20240520T090000
DTEND;TZID=Europe/Ljubljana:20240520T130000
DTSTAMP:20260419T153159
CREATED:20240501T200930Z
LAST-MODIFIED:20240501T200930Z
UID:579-1716195600-1716210000@du.velike-lasce.si
SUMMARY:TELOVADBA S FIZIOTERAPEVTKO
DESCRIPTION:
URL:https://du.velike-lasce.si/splet/dogodek/telovadba-s-fizioterapevtko-17/
END:VEVENT
BEGIN:VEVENT
DTSTART;TZID=Europe/Ljubljana:20240517T140000
DTEND;TZID=Europe/Ljubljana:20240517T160000
DTSTAMP:20260419T153159
CREATED:20240501T200555Z
LAST-MODIFIED:20240501T200555Z
UID:573-1715954400-1715961600@du.velike-lasce.si
SUMMARY:ROČNA DELA
DESCRIPTION:
URL:https://du.velike-lasce.si/splet/dogodek/rocna-dela-9/
END:VEVENT
BEGIN:VEVENT
DTSTART;TZID=Europe/Ljubljana:20240513T090000
DTEND;TZID=Europe/Ljubljana:20240513T130000
DTSTAMP:20260419T153159
CREATED:20240501T200835Z
LAST-MODIFIED:20240501T200835Z
UID:577-1715590800-1715605200@du.velike-lasce.si
SUMMARY:TELOVADBA S FIZIOTERAPEVTKO
DESCRIPTION:
URL:https://du.velike-lasce.si/splet/dogodek/telovadba-s-fizioterapevtko-16/
END:VEVENT
BEGIN:VEVENT
DTSTART;TZID=Europe/Ljubljana:20240508T080000
DTEND;TZID=Europe/Ljubljana:20240508T170000
DTSTAMP:20260419T153159
CREATED:20240501T200502Z
LAST-MODIFIED:20240501T200502Z
UID:571-1715155200-1715187600@du.velike-lasce.si
SUMMARY:DELAVNICA ZA SPOMIN
DESCRIPTION:
URL:https://du.velike-lasce.si/splet/dogodek/delavnica-za-spomin-10/
END:VEVENT
BEGIN:VEVENT
DTSTART;TZID=Europe/Ljubljana:20240506T090000
DTEND;TZID=Europe/Ljubljana:20240506T130000
DTSTAMP:20260419T153159
CREATED:20240501T200718Z
LAST-MODIFIED:20240501T200718Z
UID:575-1714986000-1715000400@du.velike-lasce.si
SUMMARY:TELOVADBA S FIZIOTERAPEVTKO
DESCRIPTION:
URL:https://du.velike-lasce.si/splet/dogodek/telovadba-s-fizioterapevtko-15/
END:VEVENT
BEGIN:VEVENT
DTSTART;TZID=Europe/Ljubljana:20240429T083000
DTEND;TZID=Europe/Ljubljana:20240429T093000
DTSTAMP:20260419T153159
CREATED:20240402T181000Z
LAST-MODIFIED:20240402T181000Z
UID:519-1714379400-1714383000@du.velike-lasce.si
SUMMARY:TELOVADBA S FIZIOTERAPEVTKO
DESCRIPTION:
URL:https://du.velike-lasce.si/splet/dogodek/telovadba-s-fizioterapevtko-14/
END:VEVENT
BEGIN:VEVENT
DTSTART;TZID=Europe/Ljubljana:20240424T090000
DTEND;TZID=Europe/Ljubljana:20240424T110000
DTSTAMP:20260419T153159
CREATED:20240402T181317Z
LAST-MODIFIED:20240402T181317Z
UID:529-1713949200-1713956400@du.velike-lasce.si
SUMMARY:DELAVNICA RABA PAMETNEGA TELEFONA
DESCRIPTION:
URL:https://du.velike-lasce.si/splet/dogodek/delavnica-raba-pametnega-telefona-3/
END:VEVENT
BEGIN:VEVENT
DTSTART;TZID=Europe/Ljubljana:20240422T083000
DTEND;TZID=Europe/Ljubljana:20240422T093000
DTSTAMP:20260419T153159
CREATED:20240402T180923Z
LAST-MODIFIED:20240402T181451Z
UID:517-1713774600-1713778200@du.velike-lasce.si
SUMMARY:TELOVADBA S FIZIOTERAPEVTKO
DESCRIPTION:
URL:https://du.velike-lasce.si/splet/dogodek/telovadba-s-fizioterapevtko-13/
END:VEVENT
BEGIN:VEVENT
DTSTART;TZID=Europe/Ljubljana:20240419T140000
DTEND;TZID=Europe/Ljubljana:20240419T160000
DTSTAMP:20260419T153159
CREATED:20240402T181118Z
LAST-MODIFIED:20240402T181118Z
UID:523-1713535200-1713542400@du.velike-lasce.si
SUMMARY:ROČNA DELA
DESCRIPTION:
URL:https://du.velike-lasce.si/splet/dogodek/rocna-dela-8/
END:VEVENT
BEGIN:VEVENT
DTSTART;TZID=Europe/Ljubljana:20240417T090000
DTEND;TZID=Europe/Ljubljana:20240417T110000
DTSTAMP:20260419T153159
CREATED:20240402T181237Z
LAST-MODIFIED:20240402T181237Z
UID:527-1713344400-1713351600@du.velike-lasce.si
SUMMARY:DELAVNICA RABA PAMETNEGA TELEFONA
DESCRIPTION:
URL:https://du.velike-lasce.si/splet/dogodek/delavnica-raba-pametnega-telefona-2/
END:VEVENT
BEGIN:VEVENT
DTSTART;TZID=Europe/Ljubljana:20240415T170000
DTEND;TZID=Europe/Ljubljana:20240415T190000
DTSTAMP:20260419T153159
CREATED:20240409T210956Z
LAST-MODIFIED:20240409T211436Z
UID:542-1713200400-1713207600@du.velike-lasce.si
SUMMARY:PREDAVANJE - ZASNOVA VRTA
DESCRIPTION:Predavala bo ga. Marijana KOS univ. dipl. inž. agr. \nDPŽ VELIKE LAŠČE\, Levstikov dom.
URL:https://du.velike-lasce.si/splet/dogodek/predavanje-zasnova-vrta/
END:VEVENT
BEGIN:VEVENT
DTSTART;TZID=Europe/Ljubljana:20240410T090000
DTEND;TZID=Europe/Ljubljana:20240410T110000
DTSTAMP:20260419T153159
CREATED:20240402T181206Z
LAST-MODIFIED:20240402T181206Z
UID:525-1712739600-1712746800@du.velike-lasce.si
SUMMARY:DELAVNICA RABA PAMETNEGA TELEFONA
DESCRIPTION:
URL:https://du.velike-lasce.si/splet/dogodek/delavnica-raba-pametnega-telefona/
END:VEVENT
BEGIN:VEVENT
DTSTART;TZID=Europe/Ljubljana:20240408T083000
DTEND;TZID=Europe/Ljubljana:20240408T093000
DTSTAMP:20260419T153159
CREATED:20240402T180742Z
LAST-MODIFIED:20240402T180742Z
UID:513-1712565000-1712568600@du.velike-lasce.si
SUMMARY:TELOVADBA S FIZIOTERAPETKO
DESCRIPTION:
URL:https://du.velike-lasce.si/splet/dogodek/telovadba-s-fizioterapetko/
END:VEVENT
END:VCALENDAR